Uber Exif Photo
Make : Leica Camera AG
Camera Model Name : M Monochrom
Software : Adobe Photoshop Lightroom Classic 13.5 (Macintosh)
Modify Date : 2024:08:22 21:13:46
Exposure Time : 1/500
F Number : 4.8
Exposure Program : Aperture-priority AE
ISO : 320
Date/Time Original : 2024:08:22 18:01:47
Create Date : 2024:08:22 18:01:47
Shutter Speed Value : 1/500
Aperture Value : 4.8
Exposure Compensation : -0.332
Max Aperture Value : 2.0
Metering Mode : Center-weighted average
Light Source : Unknown
Flash : No Flash
Focal Length : 50.0 mm
Contrast : Normal
Sharpening : Normal
Saturation : Normal
White Balance : Auto
JPEG Quality : Fine
WB RGB Levels : 1 1 1
User Profile : JPEG Size : 5216x3472
Firmware Version : 1.022
Base ISO : 320
Sensor Width : 5270
Sensor Height : 3516
Sensor Bit Depth : 14
Camera Temperature : 20 C
Lens Type : Summicron-M 50mm f/2 (IV, V)
Approximate F Number : 4.5
Measured LV : 4.67
External Sensor Brightness Value : 4.33
Color Space : sRGB
Scene Type : Directly photographed
Exposure Mode : Manual
Digital Zoom Ratio : 0
Focal Length In 35mm Format : 50 mm
Scene Capture Type : Standard
Serial Number : 4348615
Lens Model : Leica Summicron-M 50mm f/2 (IV, V)
Maker Note Safety : Safe
Profile Description : sRGB IEC61966-2.1
Creator Tool : Adobe Photoshop Lightroom Classic 13.5 (Macintosh)
Lens : Leica Summicron-M 50mm f/2 (IV, V)
Date Created : 2024:08:22 18:01:47
Preserved File Name : L2012988.DNG
Format : image/jpeg
Pick : 0
Raw File Name : L2012988.DNG
Version : 16.5
Process Version : 15.4
Exposure 2012 : 0.00
Contrast 2012 : 0
Highlights 2012 : +28
Shadows 2012 : 0
Whites 2012 : 0
Blacks 2012 : -31
Texture : 0
Clarity 2012 : 0
Dehaze : 0
Parametric Shadows : 0
Parametric Darks : 0
Parametric Lights : 0
Parametric Highlights : 0
Parametric Shadow Split : 25
Parametric Midtone Split : 50
Parametric Highlight Split : 75
Sharpness : 40
Sharpen Radius : +1.0
Sharpen Detail : 25
Sharpen Edge Masking : 0
Luminance Smoothing : 0
Split Toning Shadow Hue : 0
Split Toning Shadow Saturation : 0
Split Toning Highlight Hue : 0
Split Toning Highlight Saturation : 0
Split Toning Balance : 0
Color Grade Midtone Hue : 0
Color Grade Midtone Sat : 0
Color Grade Shadow Lum : 0
Color Grade Midtone Lum : 0
Color Grade Highlight Lum : 0
Color Grade Blending : 50
Color Grade Global Hue : 0
Color Grade Global Sat : 0
Color Grade Global Lum : 0
Lens Profile Enable : 0
Lens Manual Distortion Amount : 0
Vignette Amount : 0
Perspective Upright : Off
Perspective Vertical : 0
Perspective Horizontal : 0
Perspective Rotate : 0.0
Perspective Aspect : 0
Perspective Scale : 100
Perspective X : 0.00
Perspective Y : 0.00
Grain Amount : 0
Post Crop Vignette Amount : 0
HDR Edit Mode : 0
Override Look Vignette : False
Tone Curve Name 2012 : Linear
Has Settings : True
Crop Top : 0.064635
Crop Left : 0.027126
Crop Bottom : 0.977316
Crop Right : 0.939807
Crop Angle : 0
Crop Constrain To Warp : 0
Has Crop : True
Already Applied : True
Tone Curve PV2012 : 0, 0, 255, 255
Tone Curve PV2012 Red : 0, 0, 255, 255
Tone Curve PV2012 Green : 0, 0, 255, 255
Tone Curve PV2012 Blue : 0, 0, 255, 255
Point Colors : -1.000000, -1.000000, -1.000000, -1.000000, -1.000000, -1.000000, -1.000000, -1.000000, -1.000000, -1.000000, -1.000000, -1.000000, -1.000000, -1.000000, -1.000000, -1.000000, -1.000000, -1.000000, -1.000000
Image Width : 266
Image Height : 400
Bits Per Sample : 8
Color Components : 3
Aperture : 4.8
Blue Balance : 1
Image Size : 266x400
Lens ID : Leica Summicron-M 50mm f/2 (IV, V)
Megapixels : 0.106
Red Balance : 1
Scale Factor To 35 mm Equivalent : 1.0
Shutter Speed : 1/500
Modify Date : 2024:08:22 21:13:46+10:00
Circle Of Confusion : 0.030 mm
Field Of View : 39.6 deg
Focal Length : 50.0 mm (35 mm equivalent: 50.0 mm)
Hyperfocal Distance : 17.33 m
Light Value : 11.8