Uber Exif Photo
By-line : DANIEL TURNER
Make : FUJIFILM
Camera Model Name : X-Pro2
Software : Adobe Photoshop Lightroom Classic 7.4 (Windows)
Modify Date : 2019:02:22 18:48:58
Artist : DANIEL TURNER
Exposure Time : 1/180
F Number : 1.8
Exposure Program : Program AE
ISO : 3200
Sensitivity Type : Standard Output Sensitivity
Date/Time Original : 2019:02:19 22:02:55
Create Date : 2019:02:19 22:02:55
Shutter Speed Value : 1/180
Aperture Value : 1.8
Brightness Value : -1.07
Exposure Compensation : -0.33
Max Aperture Value : 1.2
Metering Mode : Spot
Light Source : Unknown
Flash : No Flash
Focal Length : 56.0 mm
Color Space : sRGB
Sensing Method : One-chip color area
Scene Type : Directly photographed
Custom Rendered : Custom
Exposure Mode : Auto
White Balance : Auto
Focal Length In 35mm Format : 84 mm
Scene Capture Type : Standard
Sharpness : Hard
Subject Distance Range : Unknown
Lens Info : 56mm f/1.2
Lens Make : FUJIFILM
Lens Model : XF56mmF1.2 R
Lens Serial Number : 76A12399
Profile Description : sRGB IEC61966-2.1
Format : image/jpeg
Creator Tool : Adobe Photoshop Lightroom Classic 7.4 (Windows)
Lens : XF56mmF1.2 R
Lateral Chromatic Aberration Correction Already Applied : True
Date Created : 2019:02:19 22:02:55
Raw File Name : Version : 10.4
Process Version : 10.0
Incremental Temperature : 0
Incremental Tint : 0
Luminance Smoothing : 25
Color Noise Reduction : 0
Vignette Amount : 0
Shadow Tint : 0
Red Hue : 0
Red Saturation : 0
Green Hue : 0
Green Saturation : 0
Blue Hue : 0
Blue Saturation : 0
Gray Mixer Red : -12
Gray Mixer Orange : -21
Gray Mixer Yellow : -25
Gray Mixer Green : -28
Gray Mixer Aqua : -16
Gray Mixer Blue : +15
Gray Mixer Purple : +19
Gray Mixer Magenta : +4
Split Toning Shadow Hue : 0
Split Toning Shadow Saturation : 0
Split Toning Highlight Hue : 0
Split Toning Highlight Saturation : 0
Split Toning Balance : 0
Parametric Shadows : 0
Parametric Darks : 0
Parametric Lights : 0
Parametric Highlights : 0
Parametric Shadow Split : 25
Parametric Midtone Split : 50
Parametric Highlight Split : 75
Sharpen Radius : +1.0
Sharpen Detail : 25
Sharpen Edge Masking : 2
Post Crop Vignette Amount : 0
Grain Amount : 0
Luminance Noise Reduction Detail : 50
Luminance Noise Reduction Contrast : 0
Lens Profile Enable : 0
Lens Manual Distortion Amount : 0
Perspective Vertical : 0
Perspective Horizontal : 0
Perspective Rotate : 0.0
Perspective Scale : 100
Perspective Aspect : 0
Perspective Upright : Off
Perspective X : 0.00
Perspective Y : 0.00
Auto Lateral CA : 1
Exposure 2012 : +0.30
Contrast 2012 : -20
Highlights 2012 : -10
Shadows 2012 : -25
Whites 2012 : +43
Blacks 2012 : -30
Clarity 2012 : +20
Dehaze : +5
Tone Map Strength : 0
Convert To Grayscale : True
Override Look Vignette : False
Tone Curve Name : Linear
Tone Curve Name 2012 : Linear
Camera Profile : Embedded
Lens Profile Setup : LensDefaults
Has Settings : True
Crop Top : 0
Crop Left : 0.350108
Crop Bottom : 0.431855
Crop Right : 0.925601
Crop Angle : 0
Crop Constrain To Warp : 0
Has Crop : True
Already Applied : True
Creator : DANIEL TURNER
Tone Curve : 0, 0, 255, 255
Tone Curve Red : 0, 0, 255, 255
Tone Curve Green : 0, 0, 255, 255
Tone Curve Blue : 0, 0, 255, 255
Tone Curve PV2012 : 0, 0, 255, 255
Tone Curve PV2012 Red : 0, 0, 255, 255
Tone Curve PV2012 Green : 0, 0, 255, 255
Tone Curve PV2012 Blue : 0, 0, 255, 255
Paint Correction What : Correction
Paint Correction Amount : 1.000000
Paint Correction Active : true
Paint Correction Saturation : 0.000000
Paint Correction Sharpness : 0.000000
Paint Correction Brightness : 0.000000
Paint Correction Toning Hue : 0.000000
Paint Correction Toning Saturation : 0.000000
Paint Correction Exposure 2012 : -0.939500
Paint Correction Contrast 2012 : 0.000000
Paint Correction Highlights 2012 : 0.000000
Paint Correction Shadows 2012 : 0.000000
Paint Correction Whites 2012 : 0.000000
Paint Correction Blacks 2012 : 0.000000
Paint Correction Clarity 2012 : 0.000000
Paint Correction Dehaze : 0.000000
Paint Correction Luminance Noise : 0.000000
Paint Correction Moire : 0.000000
Paint Correction Defringe : 0.000000
Paint Correction Temperature : 0.000000
Paint Correction Tint : 0.000000
Paint Correction Mask What : Mask/Paint
Paint Correction Mask Value : 1.000000
Paint Correction Mask Radius : 0.054832
Paint Correction Mask Flow : 1.000000
Paint Correction Mask Center Weight : 0.000000
Paint Correction Range Mask Version : +2
Paint Correction Range Mask Type : 0
Paint Correction Range Mask Color Amount : 0.500000
Paint Correction Range Mask Lum Min : 0.000000
Paint Correction Range Mask Lum Max : 1.000000
Paint Correction Range Mask Lum Feather : 0.500000
Gradient Based Corr What : Correction
Gradient Based Corr Amount : 1.000000
Gradient Based Corr Active : true
Gradient Based Corr Saturation : 0.000000
Gradient Based Corr Sharpness : 0.000000
Gradient Based Corr Brightness : 0.000000
Gradient Based Corr Toning Hue : 0.000000
Gradient Based Corr Toning Saturation : 0.000000
Gradient Based Corr Exposure 2012 : -0.999750
Gradient Based Corr Contrast 2012 : -0.999990
Gradient Based Corr Highlights 2012 : 0.000000
Gradient Based Corr Shadows 2012 : 0.000000
Gradient Based Corr Whites 2012 : 0.000000
Gradient Based Corr Blacks 2012 : 0.000000
Gradient Based Corr Clarity 2012 : 0.000000
Gradient Based Corr Dehaze : 0.000000
Gradient Based Corr Luminance Noise : 0.000000
Gradient Based Corr Moire : 0.000000
Gradient Based Corr Defringe : 0.000000
Gradient Based Corr Temperature : 0.000000
Gradient Based Corr Tint : 0.000000
Gradient Based Corr Mask What : Mask/Gradient
Gradient Based Corr Mask Value : 1.000000
Gradient Based Corr Mask Zero X : 0.811609
Gradient Based Corr Mask Zero Y : 0.294824
Gradient Based Corr Mask Full X : 0.922834
Gradient Based Corr Mask Full Y : -0.008305
Gradient Based Corr Range Mask Version : +2
Gradient Based Corr Range Mask Type : 0
Gradient Based Corr Range Mask Color Amount : 0.500000
Gradient Based Corr Range Mask Lum Min : 0.000000
Gradient Based Corr Range Mask Lum Max : 1.000000
Gradient Based Corr Range Mask Lum Feather : 0.500000
Look Name : B&W 01
Look Amount : 0.980000
Look Cluster : Adobe
Look Supports Monochrome : false
Look Sort Name : B&W 01
Look Group : B&W
Look Parameters Version : 10.4
Look Parameters Process Version : 10.0
Look Parameters Contrast 2012 : +33
Look Parameters Highlights 2012 : -40
Look Parameters Shadows 2012 : +45
Look Parameters Blacks 2012 : -10
Look Parameters Clarity 2012 : +8
Look Parameters Convert To Grayscale : True
Look Parameters Look Table : 62CE423BDCA099FE0B786CA01EB606B0
Look Parameters Tone Curve PV2012 : 0, 0, 17, 17, 34, 36, 51, 55, 68, 75, 85, 96, 102, 116, 119, 136, 136, 154, 153, 171, 170, 187, 187, 202, 204, 216, 221, 230, 238, 242, 255, 255
Look Parameters Tone Curve PV2012 Red : 0, 0, 255, 255
Look Parameters Tone Curve PV2012 Green : 0, 0, 255, 255
Look Parameters Tone Curve PV2012 Blue : 0, 0, 255, 255
Image Width : 250
Image Height : 125
Bits Per Sample : 8
Color Components : 1
Aperture : 1.8
Image Size : 250x125
Megapixels : 0.031
Scale Factor To 35 mm Equivalent : 1.5
Shutter Speed : 1/180
Circle Of Confusion : 0.020 mm
Field Of View : 24.2 deg
Focal Length : 56.0 mm (35 mm equivalent: 84.0 mm)
Hyperfocal Distance : 86.98 m
Light Value : 4.2
Lens ID : XF56mm F1.2 R