Uber Exif Photo
Photometric Interpretation : RGB
Make : Leica Camera AG
Camera Model Name : LEICA M11
Orientation : Horizontal (normal)
Samples Per Pixel : 3
Software : Adobe Photoshop 25.1 (Macintosh)
Modify Date : 2023:11:15 13:28:39
Exposure Time : 1/250
F Number : 16.0
Exposure Program : Manual
ISO : 200
Sensitivity Type : ISO Speed
ISO Speed : 200
Date/Time Original : 2023:10:16 03:47:31
Create Date : 2023:10:16 03:47:31
Shutter Speed Value : 1/250
Aperture Value : 16.0
Exposure Compensation : 0
Max Aperture Value : 2.0
Metering Mode : Multi-segment
Light Source : Unknown
Flash : No Flash
Focal Length : 35.0 mm
Color Space : Uncalibrated
Exif Image Width : 1728
Exif Image Height : 1148
Scene Type : Directly photographed
Custom Rendered : Normal
Exposure Mode : Manual
White Balance : Auto
Digital Zoom Ratio : 0
Scene Capture Type : Standard
Contrast : Normal
Saturation : Normal
Sharpness : Normal
Serial Number : 5667765
Lens Info : 35mm f/2
Lens Make : Leica Camera AG
Lens Model : Summicron-M 1:2/35
Version ID : 02.00
Creator Tool : Adobe Photoshop Camera Raw 16.0.1 (Macintosh)
Format : image/jpeg
Correction Already Applied : False
Pitch Angle : -2.0260000229
Roll Angle : -2.2820000648
Focal Length 35mm : 35.0000000000
Target Aspect Ratio : 1.5000000000
Scaling Factor Height : 0.9423137307
Valid Crop Corners : True
Apply Automatically : False
Lens : Summicron-M 1:2/35
Approximate Focus Distance : 2.03
Lateral Chromatic Aberration Correction Already Applied : True
Date Created : 2023:10:16 03:47:31
Color Mode : RGB
ICC Profile Name : Adobe RGB (1998)
Raw File Name : L1003702.DNG
Version : 16.0.1
Process Version : 15.4
Color Temperature : 5000
Tint : +19
Exposure 2012 : +0.60
Contrast 2012 : 0
Highlights 2012 : -26
Shadows 2012 : +100
Whites 2012 : 0
Blacks 2012 : 0
Texture : 0
Clarity 2012 : +47
Dehaze : 0
Vibrance : 0
Parametric Shadows : 0
Parametric Darks : 0
Parametric Lights : 0
Parametric Highlights : 0
Parametric Shadow Split : 25
Parametric Midtone Split : 50
Parametric Highlight Split : 75
Sharpen Radius : +1.0
Sharpen Detail : 25
Sharpen Edge Masking : 0
Luminance Smoothing : 5
Luminance Noise Reduction Detail : 50
Luminance Noise Reduction Contrast : 0
Color Noise Reduction : 25
Color Noise Reduction Detail : 50
Color Noise Reduction Smoothness : 50
Hue Adjustment Red : 0
Hue Adjustment Orange : 0
Hue Adjustment Yellow : 0
Hue Adjustment Green : 0
Hue Adjustment Aqua : 0
Hue Adjustment Blue : 0
Hue Adjustment Purple : 0
Hue Adjustment Magenta : 0
Saturation Adjustment Red : 0
Saturation Adjustment Orange : 0
Saturation Adjustment Yellow : 0
Saturation Adjustment Green : 0
Saturation Adjustment Aqua : 0
Saturation Adjustment Blue : 0
Saturation Adjustment Purple : 0
Saturation Adjustment Magenta : 0
Luminance Adjustment Red : 0
Luminance Adjustment Orange : 0
Luminance Adjustment Yellow : 0
Luminance Adjustment Green : 0
Luminance Adjustment Aqua : 0
Luminance Adjustment Blue : 0
Luminance Adjustment Purple : 0
Luminance Adjustment Magenta : 0
Split Toning Shadow Hue : 0
Split Toning Shadow Saturation : 0
Split Toning Highlight Hue : 0
Split Toning Highlight Saturation : 0
Split Toning Balance : 0
Color Grade Midtone Hue : 0
Color Grade Midtone Sat : 0
Color Grade Shadow Lum : 0
Color Grade Midtone Lum : 0
Color Grade Highlight Lum : 0
Color Grade Blending : 50
Color Grade Global Hue : 0
Color Grade Global Sat : 0
Color Grade Global Lum : 0
Auto Lateral CA : 1
Lens Profile Enable : 1
Lens Manual Distortion Amount : 0
Vignette Amount : 0
Defringe Purple Amount : 0
Defringe Purple Hue Lo : 30
Defringe Purple Hue Hi : 70
Defringe Green Amount : 0
Defringe Green Hue Lo : 40
Defringe Green Hue Hi : 60
Perspective Upright : Auto
Perspective Vertical : 0
Perspective Horizontal : 0
Perspective Rotate : 0.0
Perspective Aspect : 0
Perspective Scale : 100
Perspective X : 0.00
Perspective Y : 0.00
Grain Amount : 0
Post Crop Vignette Amount : 0
Shadow Tint : 0
Red Hue : 0
Red Saturation : 0
Green Hue : 0
Green Saturation : 0
Blue Hue : 0
Blue Saturation : 0
HDR Edit Mode : 0
Convert To Grayscale : False
Override Look Vignette : False
Tone Curve Name 2012 : Linear
Camera Profile : Adobe Standard
Lens Profile Setup : LensDefaults
Has Settings : True
Crop Top : 0
Crop Left : 0
Crop Bottom : 1
Crop Right : 1
Crop Angle : 0
Crop Constrain To Warp : 0
Has Crop : False
Already Applied : True
Derived From Version ID : 02.00
Normalized Crop Corners : 0.0363546051, 0.0000000000, 0.9886994362, 0.0569256805, 0.9529494643, 0.9971876144, 0.0221117828, 0.9415474534
Tone Curve PV2012 : 0, 0, 255, 255
Tone Curve PV2012 Red : 0, 0, 255, 255
Tone Curve PV2012 Green : 0, 0, 255, 255
Tone Curve PV2012 Blue : 0, 0, 255, 255
Profile Description : Adobe RGB (1998)
Image Width : 400
Image Height : 266
Bits Per Sample : 8
Color Components : 3
Aperture : 16.0
Image Size : 400x266
Megapixels : 0.106
Scale Factor To 35 mm Equivalent : 5.5
Shutter Speed : 1/250
Modify Date : 2023:11:15 13:28:39-05:00
Circle Of Confusion : 0.005 mm
Depth Of Field : 0.59 m (1.78 - 2.37 m)
Field Of View : 10.7 deg
Focal Length : 35.0 mm (35 mm equivalent: 193.0 mm)
Hyperfocal Distance : 14.05 m
Light Value : 15.0
Lens ID : Summicron-M 1:2/35