Uber Exif Photo
By-line : Artist
Copyright Notice : Info
Photometric Interpretation : RGB
Make : Leica Camera AG
Camera Model Name : LEICA M10 MONOCHROM
Orientation : Horizontal (normal)
Samples Per Pixel : 3
Software : Adobe Photoshop 23.0 (Windows)
Modify Date : 2022:03:13 20:22:43
Artist : Artist
Copyright : Info
Exposure Time : 1/500
F Number : 8.0
Exposure Program : Manual
ISO : 3200
Date/Time Original : 2022:03:13 16:40:16
Create Date : 2022:03:13 16:40:16
Shutter Speed Value : 1/500
Aperture Value : 8.0
Exposure Compensation : -2/3
Max Aperture Value : 5.6
Metering Mode : Center-weighted average
Light Source : Unknown
Flash : No Flash
Focal Length : 28.0 mm
Color Space : sRGB
Exif Image Width : 1984
Exif Image Height : 3000
Scene Type : Directly photographed
Custom Rendered : Normal
Exposure Mode : Manual
Digital Zoom Ratio : 0
Scene Capture Type : Standard
Contrast : Normal
Sharpness : Hard
Serial Number : 5614575
Lens Info : 28mm f/5.6
Lens Make : Leica Camera AG
Lens Model : Summaron-M 1:5.6/28
Profile Description : sRGB IEC61966-2.1
Creator Tool : Adobe Photoshop Lightroom Classic 11.2 (Macintosh)
Format : image/jpeg
Correction Already Applied : False
Pitch Angle : -4.0599999428
Roll Angle : -0.2040023804
Focal Length 35mm : 28.0000000000
Target Aspect Ratio : 1.5000000000
Scaling Factor Height : 0.9560630918
Valid Crop Corners : True
Apply Automatically : False
Lens : Summaron-M 1:5.6/28
Approximate Focus Distance : 1.19
Lateral Chromatic Aberration Correction Already Applied : True
Date Created : 2022:03:13 16:40:16
Color Mode : RGB
ICC Profile Name : sRGB IEC61966-2.1
Preserved File Name : L1001995.DNG
Raw File Name : Version : 14.2
Compatible Version : 234881024
Process Version : 11.0
Exposure 2012 : +0.50
Contrast 2012 : +43
Highlights 2012 : -24
Shadows 2012 : +100
Whites 2012 : +68
Blacks 2012 : -41
Texture : 0
Clarity 2012 : +18
Dehaze : +7
Parametric Shadows : +15
Parametric Darks : +15
Parametric Lights : +21
Parametric Highlights : +17
Parametric Shadow Split : 25
Parametric Midtone Split : 50
Parametric Highlight Split : 75
Sharpen Radius : +1.0
Sharpen Detail : 25
Sharpen Edge Masking : 0
Luminance Smoothing : 20
Luminance Noise Reduction Detail : 50
Luminance Noise Reduction Contrast : 0
Split Toning Shadow Hue : 0
Split Toning Shadow Saturation : 0
Split Toning Highlight Hue : 0
Split Toning Highlight Saturation : 0
Split Toning Balance : 0
Color Grade Midtone Hue : 0
Color Grade Midtone Sat : 0
Color Grade Shadow Lum : 0
Color Grade Midtone Lum : 0
Color Grade Highlight Lum : 0
Color Grade Blending : 50
Color Grade Global Hue : 0
Color Grade Global Sat : 0
Color Grade Global Lum : 0
Lens Profile Enable : 1
Lens Manual Distortion Amount : 0
Vignette Amount : 0
Perspective Upright : Off
Perspective Vertical : 0
Perspective Horizontal : 0
Perspective Rotate : 0.0
Perspective Aspect : 0
Perspective Scale : 100
Perspective X : 0.00
Perspective Y : 0.00
Grain Amount : 0
Post Crop Vignette Amount : 0
Override Look Vignette : False
Tone Curve Name 2012 : Custom
Lens Profile Setup : LensDefaults
Has Settings : True
Crop Top : 0.065747
Crop Left : 0.124432
Crop Bottom : 0.941315
Crop Right : 1
Crop Angle : 0
Crop Constrain To Warp : 0
Has Crop : True
Already Applied : True
Creator : Artist
Rights : Info
Normalized Crop Corners : 0.0524674989, 0.0000000000, 0.9998898506, 0.0463957824, 0.9977238178, 0.9589322805, 0.0501051918, 0.9952070117
Tone Curve PV2012 : 0, 4, 35, 43, 107, 136, 176, 215, 255, 255
Tone Curve PV2012 Red : 0, 0, 255, 255
Tone Curve PV2012 Green : 0, 0, 255, 255
Tone Curve PV2012 Blue : 0, 0, 255, 255
Image Width : 400
Image Height : 605
Bits Per Sample : 8
Color Components : 1
Aperture : 8.0
Image Size : 400x605
Megapixels : 0.242
Scale Factor To 35 mm Equivalent : 2.6
Shutter Speed : 1/500
Modify Date : 2022:03:13 20:22:43-04:00
Circle Of Confusion : 0.011 mm
Depth Of Field : 0.33 m (1.05 - 1.38 m)
Field Of View : 27.6 deg
Focal Length : 28.0 mm (35 mm equivalent: 73.2 mm)
Hyperfocal Distance : 8.52 m
Light Value : 10.0
Lens ID : Summaron-M 1:5.6/28