Uber Exif Photo
By-line : Artist
Copyright Notice : Info
Photometric Interpretation : RGB
Make : Leica Camera AG
Camera Model Name : LEICA M10 MONOCHROM
Orientation : Horizontal (normal)
Samples Per Pixel : 3
Software : Adobe Photoshop 23.0 (Windows)
Modify Date : 2022:03:06 17:33:21
Artist : Artist
Copyright : Info
Exposure Time : 1/500
F Number : 4.8
Exposure Program : Manual
ISO : 800
Date/Time Original : 2022:03:06 13:44:14
Create Date : 2022:03:06 13:44:14
Shutter Speed Value : 1/500
Aperture Value : 4.8
Exposure Compensation : -2/3
Max Aperture Value : 1.4
Metering Mode : Center-weighted average
Light Source : Unknown
Flash : No Flash
Focal Length : 35.0 mm
Color Space : sRGB
Exif Image Width : 1984
Exif Image Height : 3000
Scene Type : Directly photographed
Custom Rendered : Normal
Exposure Mode : Manual
Digital Zoom Ratio : 0
Scene Capture Type : Standard
Contrast : Normal
Sharpness : Hard
Serial Number : 5614575
Lens Info : 35mm f/1.4
Lens Make : Leica Camera AG
Lens Model : Summilux-M 1:1.4/35 ASPH.
Profile Description : sRGB IEC61966-2.1
Creator Tool : Adobe Photoshop Lightroom Classic 11.2 (Macintosh)
Format : image/jpeg
Correction Already Applied : False
Pitch Angle : -1.5399999619
Roll Angle : -1.4929962158
Focal Length 35mm : 35.0000000000
Target Aspect Ratio : 1.5000000000
Scaling Factor Height : 0.9522794485
Valid Crop Corners : True
Apply Automatically : False
Lens : Summilux-M 1:1.4/35 ASPH.
Approximate Focus Distance : 5.53
Distortion Correction Already Applied : True
Lateral Chromatic Aberration Correction Already Applied : True
Date Created : 2022:03:06 13:44:14
Color Mode : RGB
ICC Profile Name : sRGB IEC61966-2.1
Preserved File Name : L1001875.DNG
Raw File Name : Version : 14.2
Compatible Version : 234881024
Process Version : 11.0
Exposure 2012 : -0.40
Contrast 2012 : +43
Highlights 2012 : +25
Shadows 2012 : +100
Whites 2012 : +56
Blacks 2012 : -74
Texture : 0
Clarity 2012 : +14
Dehaze : +11
Parametric Shadows : +15
Parametric Darks : +15
Parametric Lights : +21
Parametric Highlights : +17
Parametric Shadow Split : 25
Parametric Midtone Split : 50
Parametric Highlight Split : 75
Sharpen Radius : +1.0
Sharpen Detail : 25
Sharpen Edge Masking : 0
Luminance Smoothing : 10
Luminance Noise Reduction Detail : 50
Luminance Noise Reduction Contrast : 0
Split Toning Shadow Hue : 0
Split Toning Shadow Saturation : 0
Split Toning Highlight Hue : 0
Split Toning Highlight Saturation : 0
Split Toning Balance : 0
Color Grade Midtone Hue : 0
Color Grade Midtone Sat : 0
Color Grade Shadow Lum : 0
Color Grade Midtone Lum : 0
Color Grade Highlight Lum : 0
Color Grade Blending : 50
Color Grade Global Hue : 0
Color Grade Global Sat : 0
Color Grade Global Lum : 0
Lens Profile Enable : 1
Lens Manual Distortion Amount : 0
Vignette Amount : 0
Perspective Upright : Off
Perspective Vertical : 0
Perspective Horizontal : 0
Perspective Rotate : 0.0
Perspective Aspect : 0
Perspective Scale : 100
Perspective X : 0.00
Perspective Y : 0.00
Grain Amount : 0
Post Crop Vignette Amount : 0
Override Look Vignette : False
Tone Curve Name 2012 : Custom
Lens Profile Setup : LensDefaults
Lens Profile Name : Adobe (Leica SUMMILUX-M 35 mm f/1.4 ASPH.)
Lens Profile Filename : Leica Camera AG (Leica SUMMILUX-M 35 mm f1.4 ASPH.) - RAW.lcp
Lens Profile Is Embedded : False
Lens Profile Distortion Scale : 100
Lens Profile Vignetting Scale : 100
Has Settings : True
Crop Top : 0.041557
Crop Left : 0
Crop Bottom : 1
Crop Right : 0.958444
Crop Angle : 0
Crop Constrain To Warp : 0
Has Crop : True
Already Applied : True
Creator : Artist
Rights : Info
Normalized Crop Corners : 0.0487310551, 0.0000000000, 0.9991367459, 0.0496814065, 0.9828204513, 0.9887086153, 0.0319798030, 0.9640600085
Tone Curve PV2012 : 0, 0, 43, 28, 114, 109, 188, 216, 255, 255
Tone Curve PV2012 Red : 0, 0, 255, 255
Tone Curve PV2012 Green : 0, 0, 255, 255
Tone Curve PV2012 Blue : 0, 0, 255, 255
Image Width : 400
Image Height : 605
Bits Per Sample : 8
Color Components : 1
Aperture : 4.8
Image Size : 400x605
Megapixels : 0.242
Scale Factor To 35 mm Equivalent : 2.6
Shutter Speed : 1/500
Modify Date : 2022:03:06 17:33:21-05:00
Circle Of Confusion : 0.011 mm
Depth Of Field : 2.92 m (4.43 - 7.35 m)
Field Of View : 22.3 deg
Focal Length : 35.0 mm (35 mm equivalent: 91.5 mm)
Hyperfocal Distance : 22.20 m
Light Value : 10.5
Lens ID : Summilux-M 1:1.4/35 ASPH.