Uber Exif Photo
By-line : Artist
Copyright Notice : Info
Photometric Interpretation : RGB
Make : Leica Camera AG
Camera Model Name : LEICA M10 MONOCHROM
Orientation : Horizontal (normal)
Samples Per Pixel : 3
Software : Adobe Photoshop 23.0 (Windows)
Modify Date : 2022:03:06 21:25:32
Artist : Artist
Copyright : Info
Exposure Time : 1/1000
F Number : 4.8
Exposure Program : Manual
ISO : 800
Date/Time Original : 2022:03:06 13:19:56
Create Date : 2022:03:06 13:19:56
Shutter Speed Value : 1/1000
Aperture Value : 4.8
Exposure Compensation : -2/3
Max Aperture Value : 1.4
Metering Mode : Center-weighted average
Light Source : Unknown
Flash : No Flash
Focal Length : 35.0 mm
Color Space : sRGB
Exif Image Width : 1985
Exif Image Height : 3000
Scene Type : Directly photographed
Custom Rendered : Normal
Exposure Mode : Manual
Digital Zoom Ratio : 0
Scene Capture Type : Standard
Contrast : Normal
Sharpness : Hard
Serial Number : 5614575
Lens Info : 35mm f/1.4
Lens Make : Leica Camera AG
Lens Model : Summilux-M 1:1.4/35 ASPH.
Profile Description : sRGB IEC61966-2.1
Creator Tool : Adobe Photoshop Lightroom Classic 11.2 (Macintosh)
Format : image/jpeg
Correction Already Applied : False
Pitch Angle : 3.2039999962
Roll Angle : -3.6669998169
Focal Length 35mm : 35.0000000000
Target Aspect Ratio : 1.5000000000
Scaling Factor Height : 0.9001680017
Valid Crop Corners : True
Apply Automatically : False
Lens : Summilux-M 1:1.4/35 ASPH.
Approximate Focus Distance : 1.15
Distortion Correction Already Applied : True
Lateral Chromatic Aberration Correction Already Applied : True
Date Created : 2022:03:06 13:19:56
Color Mode : RGB
ICC Profile Name : sRGB IEC61966-2.1
Preserved File Name : L1001852.DNG
Has Extended XMP : 019BC0B83A8D7EB10A584D879F54C215
Creator : Artist
Rights : Info
Normalized Crop Corners : 0.0419838578, 0.0173659623, 0.9361885190, 0.0800859109, 0.8968844414, 1.0000000000, 0.0046577686, 0.8909847140
Image Width : 400
Image Height : 605
Bits Per Sample : 8
Color Components : 1
Raw File Name : Version : 14.2
Compatible Version : 234881024
Process Version : 11.0
Exposure 2012 : 0.00
Contrast 2012 : +43
Highlights 2012 : +70
Shadows 2012 : +100
Whites 2012 : -24
Blacks 2012 : -23
Texture : 0
Clarity 2012 : +15
Dehaze : +12
Parametric Shadows : +15
Parametric Darks : +15
Parametric Lights : +21
Parametric Highlights : +17
Parametric Shadow Split : 25
Parametric Midtone Split : 50
Parametric Highlight Split : 75
Sharpen Radius : +1.0
Sharpen Detail : 25
Sharpen Edge Masking : 0
Luminance Smoothing : 10
Luminance Noise Reduction Detail : 50
Luminance Noise Reduction Contrast : 0
Split Toning Shadow Hue : 0
Split Toning Shadow Saturation : 0
Split Toning Highlight Hue : 0
Split Toning Highlight Saturation : 0
Split Toning Balance : 0
Color Grade Midtone Hue : 0
Color Grade Midtone Sat : 0
Color Grade Shadow Lum : 0
Color Grade Midtone Lum : 0
Color Grade Highlight Lum : 0
Color Grade Blending : 50
Color Grade Global Hue : 0
Color Grade Global Sat : 0
Color Grade Global Lum : 0
Lens Profile Enable : 1
Lens Manual Distortion Amount : 0
Vignette Amount : 0
Perspective Upright : Off
Perspective Vertical : 0
Perspective Horizontal : 0
Perspective Rotate : 0.0
Perspective Aspect : 0
Perspective Scale : 100
Perspective X : 0.00
Perspective Y : 0.00
Grain Amount : 0
Post Crop Vignette Amount : 0
Override Look Vignette : False
Tone Curve Name 2012 : Custom
Lens Profile Setup : LensDefaults
Lens Profile Name : Adobe (Leica SUMMILUX-M 35 mm f/1.4 ASPH.)
Lens Profile Filename : Leica Camera AG (Leica SUMMILUX-M 35 mm f1.4 ASPH.) - RAW.lcp
Lens Profile Is Embedded : False
Lens Profile Distortion Scale : 100
Lens Profile Vignetting Scale : 100
Has Settings : True
Crop Top : 0.054975
Crop Left : 0.114523
Crop Bottom : 0.905034
Crop Right : 0.852722
Crop Angle : 3.79317
Crop Constrain To Warp : 0
Has Crop : True
Already Applied : True
Tone Curve PV2012 : 0, 0, 43, 28, 115, 108, 176, 193, 255, 255
Tone Curve PV2012 Red : 0, 0, 255, 255
Tone Curve PV2012 Green : 0, 0, 255, 255
Tone Curve PV2012 Blue : 0, 0, 255, 255
Aperture : 4.8
Image Size : 400x605
Megapixels : 0.242
Scale Factor To 35 mm Equivalent : 2.6
Shutter Speed : 1/1000
Modify Date : 2022:03:06 21:25:32-05:00
Circle Of Confusion : 0.011 mm
Depth Of Field : 0.12 m (1.09 - 1.21 m)
Field Of View : 22.3 deg
Focal Length : 35.0 mm (35 mm equivalent: 91.4 mm)
Hyperfocal Distance : 22.19 m
Light Value : 11.5
Lens ID : Summilux-M 1:1.4/35 ASPH.