Uber Exif Photo
By-line : Artist
Copyright Notice : Info
Photometric Interpretation : RGB
Make : Leica Camera AG
Camera Model Name : LEICA M10 MONOCHROM
Orientation : Horizontal (normal)
Samples Per Pixel : 3
Software : Adobe Photoshop 23.0 (Windows)
Modify Date : 2022:02:27 19:03:08
Artist : Artist
Copyright : Info
Exposure Time : 1/2000
F Number : 6.8
Exposure Program : Manual
ISO : 1600
Date/Time Original : 2022:02:27 15:33:00
Create Date : 2022:02:27 15:33:00
Shutter Speed Value : 1/2000
Aperture Value : 6.8
Exposure Compensation : 0
Max Aperture Value : 4.0
Metering Mode : Center-weighted average
Light Source : Unknown
Flash : No Flash
Focal Length : 16.0 mm
Color Space : sRGB
Exif Image Width : 3000
Exif Image Height : 1984
Scene Type : Directly photographed
Custom Rendered : Normal
Exposure Mode : Manual
Digital Zoom Ratio : 0
Scene Capture Type : Standard
Contrast : Normal
Sharpness : Hard
Serial Number : 5614575
Lens Info : 16-21mm f/4
Lens Make : Leica Camera AG
Lens Model : Tri-Elmar-M 1:4/16-18-21 ASPH.
Profile Description : sRGB IEC61966-2.1
Creator Tool : Adobe Photoshop Lightroom Classic 11.2 (Macintosh)
Format : image/jpeg
Correction Already Applied : False
Pitch Angle : 10.7360000610
Roll Angle : -0.1860000044
Focal Length 35mm : 16.0000000000
Target Aspect Ratio : 1.5000000000
Scaling Factor Height : 0.9093770385
Valid Crop Corners : True
Apply Automatically : False
Lens : Tri-Elmar-M 1:4/16-18-21 ASPH.
Approximate Focus Distance : 0.7
Distortion Correction Already Applied : True
Lateral Chromatic Aberration Correction Already Applied : True
Date Created : 2022:02:27 15:33
Color Mode : RGB
ICC Profile Name : sRGB IEC61966-2.1
Preserved File Name : L1001773.DNG
Raw File Name : Version : 14.2
Compatible Version : 234881024
Process Version : 11.0
Exposure 2012 : +0.25
Contrast 2012 : +41
Highlights 2012 : -100
Shadows 2012 : +100
Whites 2012 : +65
Blacks 2012 : -60
Texture : 0
Clarity 2012 : +14
Dehaze : +15
Parametric Shadows : +15
Parametric Darks : +15
Parametric Lights : +21
Parametric Highlights : +17
Parametric Shadow Split : 25
Parametric Midtone Split : 50
Parametric Highlight Split : 75
Sharpen Radius : +1.0
Sharpen Detail : 25
Sharpen Edge Masking : 0
Luminance Smoothing : 20
Luminance Noise Reduction Detail : 50
Luminance Noise Reduction Contrast : 0
Split Toning Shadow Hue : 0
Split Toning Shadow Saturation : 0
Split Toning Highlight Hue : 0
Split Toning Highlight Saturation : 0
Split Toning Balance : 0
Color Grade Midtone Hue : 0
Color Grade Midtone Sat : 0
Color Grade Shadow Lum : 0
Color Grade Midtone Lum : 0
Color Grade Highlight Lum : 0
Color Grade Blending : 50
Color Grade Global Hue : 0
Color Grade Global Sat : 0
Color Grade Global Lum : 0
Lens Profile Enable : 1
Lens Manual Distortion Amount : 0
Vignette Amount : 0
Perspective Upright : Off
Perspective Vertical : 0
Perspective Horizontal : 0
Perspective Rotate : 0.0
Perspective Aspect : 0
Perspective Scale : 100
Perspective X : 0.00
Perspective Y : 0.00
Grain Amount : 0
Post Crop Vignette Amount : 0
Override Look Vignette : False
Tone Curve Name 2012 : Custom
Lens Profile Setup : LensDefaults
Lens Profile Name : Adobe (Leica TRI-ELMAR-M 16-18-21 mm f/4 ASPH.)
Lens Profile Filename : Leica Camera AG (Leica TRI-ELMAR-M 16-18-21 mm f4 ASPH.) - RAW.lcp
Lens Profile Is Embedded : False
Lens Profile Distortion Scale : 100
Lens Profile Vignetting Scale : 100
Has Settings : True
Crop Top : 0
Crop Left : 0
Crop Bottom : 1
Crop Right : 1
Crop Angle : 0
Crop Constrain To Warp : 0
Has Crop : False
Already Applied : True
Creator : Artist
Rights : Info
Normalized Crop Corners : 0.1107328236, 0.0005392119, 0.8914208412, 0.0043407609, 0.9985082150, 0.8470768929, 0.0000000000, 0.8422146440
Tone Curve PV2012 : 0, 0, 65, 42, 119, 118, 190, 199, 255, 255
Tone Curve PV2012 Red : 0, 0, 255, 255
Tone Curve PV2012 Green : 0, 0, 255, 255
Tone Curve PV2012 Blue : 0, 0, 255, 255
Image Width : 400
Image Height : 265
Bits Per Sample : 8
Color Components : 1
Aperture : 6.8
Image Size : 400x265
Megapixels : 0.106
Scale Factor To 35 mm Equivalent : 2.6
Shutter Speed : 1/2000
Modify Date : 2022:02:27 19:03:08-05:00
Circle Of Confusion : 0.011 mm
Depth Of Field : 0.31 m (0.58 - 0.88 m)
Field Of View : 46.6 deg
Focal Length : 16.0 mm (35 mm equivalent: 41.8 mm)
Hyperfocal Distance : 3.27 m
Light Value : 12.5