Uber Exif Photo
Keywords : london
Make : Leica Camera AG
Camera Model Name : M8 Digital Camera
Software : 2.000
Modify Date : 2008:10:30 23:12:36
Exposure Time : 1/1000
Exposure Program : Aperture-priority AE
ISO : 160
Date/Time Original : 2008:10:17 15:25:13
Create Date : 2008:10:17 15:25:13
Shutter Speed Value : 1/1000
Exposure Compensation : -0.332
Max Aperture Value : 1.0
Metering Mode : Center-weighted average
Light Source : Unknown
Scene Type : Directly photographed
White Balance : Auto
Digital Zoom Ratio : 0
Scene Capture Type : Standard
Profile Description : sRGB IEC61966-2.1
Date/Time Digitized : 2008:10:17 15:25:13+02:00
Creator Tool : Adobe Photoshop Lightroom
Serial Number : 3104820
Version : 1.0
Color Temperature : 5400
Tint : +17
Exposure : +0.33
Shadows : 29
Brightness : +45
Contrast : +73
Saturation : -70
Sharpness : 25
Luminance Smoothing : 0
Color Noise Reduction : 25
Chromatic Aberration R : 0
Chromatic Aberration B : 0
Vignette Amount : -100
Vignette Midpoint : 20
Shadow Tint : 0
Red Hue : 0
Red Saturation : 0
Green Hue : 0
Green Saturation : 0
Blue Hue : 0
Blue Saturation : 0
Fill Light : 40
Vibrance : +40
Highlight Recovery : 20
Clarity : 0
Defringe : 0
Hue Adjustment Red : 0
Hue Adjustment Orange : 0
Hue Adjustment Yellow : 0
Hue Adjustment Green : 0
Hue Adjustment Aqua : 0
Hue Adjustment Blue : 0
Hue Adjustment Purple : 0
Hue Adjustment Magenta : 0
Saturation Adjustment Red : 0
Saturation Adjustment Orange : 0
Saturation Adjustment Yellow : 0
Saturation Adjustment Green : 0
Saturation Adjustment Aqua : 0
Saturation Adjustment Blue : 0
Saturation Adjustment Purple : 0
Saturation Adjustment Magenta : 0
Luminance Adjustment Red : 0
Luminance Adjustment Orange : 0
Luminance Adjustment Yellow : 0
Luminance Adjustment Green : 0
Luminance Adjustment Aqua : 0
Luminance Adjustment Blue : 0
Luminance Adjustment Purple : 0
Luminance Adjustment Magenta : 0
Split Toning Shadow Hue : 55
Split Toning Shadow Saturation : 0
Split Toning Highlight Hue : 55
Split Toning Highlight Saturation : 31
Split Toning Balance : +53
Parametric Shadows : +8
Parametric Darks : -2
Parametric Lights : +2
Parametric Highlights : 0
Parametric Shadow Split : 14
Parametric Midtone Split : 50
Parametric Highlight Split : 75
Sharpen Radius : +1.0
Sharpen Detail : 25
Sharpen Edge Masking : 0
Convert To Grayscale : False
Tone Curve Name : Medium Contrast
Camera Profile : ACR 3.6
Has Settings : True
Crop Top : 0.047626
Crop Left : 0
Crop Bottom : 1
Crop Right : 0.952374
Crop Angle : 0
Crop Width : 800
Crop Height : 538
Crop Unit : pixels
Has Crop : True
Already Applied : True
Flash Fired : False
Flash Return : No return detection
Flash Mode : Auto
Flash Function : False
Flash Red Eye Mode : False
Subject : london
Tone Curve : 0, 0, 32, 22, 64, 56, 128, 128, 192, 196, 255, 255
Image Width : 250
Image Height : 168
Bits Per Sample : 8
Color Components : 3
Image Size : 250x168
Megapixels : 0.042
Scale Factor To 35 mm Equivalent : 21.1
Shutter Speed : 1/1000
Flash : Auto, Did not fire
Circle Of Confusion : 0.001 mm