Uber Exif Photo
By-line : J. White
Copyright Notice : 2019
Keywords : 2019, dublin, ireland, kilmainham gaol, stairs, windows
Make : Leica Camera AG
Camera Model Name : LEICA M10-P
Orientation : Horizontal (normal)
Software : Adobe Photoshop Lightroom Classic 9.3 (Macintosh)
Modify Date : 2020:12:17 16:58:19
Artist : J. White
Copyright : 2019
Exposure Time : 1/125
F Number : 4.8
Exposure Program : Aperture-priority AE
ISO : 1250
Date/Time Original : 2019:09:24 02:58:32
Create Date : 2019:09:24 02:58:32
Shutter Speed Value : 1/125
Aperture Value : 4.8
Exposure Compensation : -0.333
Max Aperture Value : 2.0
Metering Mode : Spot
Light Source : Unknown
Flash : No Flash
Focal Length : 28.0 mm
Exif Image Width : 520
Exif Image Height : 780
Scene Type : Directly photographed
Custom Rendered : Normal
Exposure Mode : Auto
White Balance : Auto
Digital Zoom Ratio : 0
Scene Capture Type : Standard
Contrast : Normal
Saturation : Normal
Sharpness : Normal
Serial Number : 5333185
Lens Info : 28mm f/511
Lens Make : Leica Camera AG
Lens Model : Summicron-M 1:2/28 ASPH.
Profile Description : CG319X(32043030)07Adobe RGB
Profile Description (ja-JP) : CG319X(32043030)07Adobe RGB
Profile Description ML : CG319X(32043030)07Adobe RGB
Profile Description ML (ja-JP) : CG319X(32043030)07Adobe RGB
Perspective Y : 0.00
Hue Adjustment Yellow : 0
Hue Adjustment Purple : 0
Lens Profile Name : Adobe (Leica SUMMICRON-M 28 mm f/2 ASPH.)
Perspective X : 0.00
Camera Profile : LEICA M10
Color Noise Reduction : 25
Split Toning Highlight Saturation : 0
Clarity 2012 : 0
Perspective Aspect : 0
Grain Amount : 0
Saturation Adjustment Orange : 0
Perspective Horizontal : 0
Saturation Adjustment Red : 0
Luminance Adjustment Magenta : 0
Sharpen Radius : +1.0
Split Toning Balance : 0
Green Hue : 0
Luminance Adjustment Blue : 0
Shadow Tint : 0
Color Noise Reduction Detail : 50
Saturation Adjustment Purple : 0
Contrast 2012 : -25
Red Saturation : 0
Already Applied : True
Hue Adjustment Aqua : 0
Red Hue : 0
Color Temperature : 4500
Defringe Purple Hue Hi : 70
Split Toning Shadow Hue : 0
Saturation Adjustment Yellow : 0
Defringe Purple Amount : 0
Lens Profile Chromatic Aberration Scale : 100
Defringe Green Hue Hi : 60
Has Crop : False
Tone Curve Name 2012 : Linear
Lens Profile Setup : LensDefaults
Blue Hue : 0
Override Look Vignette : False
Color Noise Reduction Smoothness : 50
Luminance Smoothing : 0
Perspective Scale : 100
Defringe Green Hue Lo : 40
Perspective Vertical : 0
Defringe Green Amount : 0
Blue Saturation : 0
Luminance Adjustment Green : 0
Lens Profile Distortion Scale : 100
Green Saturation : 0
Tone Curve Name : Linear
Parametric Highlight Split : 75
Split Toning Shadow Saturation : 0
Hue Adjustment Green : 0
Tone Map Strength : 0
Luminance Adjustment Orange : 0
Saturation Adjustment Magenta : 0
Version : 12.3
Convert To Grayscale : False
Hue Adjustment Magenta : 0
Shadows 2012 : +13
Luminance Adjustment Red : 0
Hue Adjustment Red : 0
Tint : +12
Perspective Upright : Level
Post Crop Vignette Amount : -21
Parametric Shadows : 0
Highlights 2012 : -37
Luminance Adjustment Aqua : 0
Luminance Adjustment Purple : 0
Saturation Adjustment Aqua : 0
Auto Lateral CA : 0
Sharpen Detail : 25
Saturation Adjustment Green : 0
Luminance Adjustment Yellow : 0
Dehaze : +36
Texture : 0
Hue Adjustment Orange : 0
Defringe Purple Hue Lo : 30
Post Crop Vignette Feather : 50
Parametric Highlights : 0
Post Crop Vignette Midpoint : 50
Parametric Darks : 0
Has Settings : True
Vibrance : 0
Post Crop Vignette Roundness : 0
Parametric Shadow Split : 25
Saturation Adjustment Blue : 0
Parametric Lights : 0
Lens Manual Distortion Amount : 0
Process Version : 11.0
Parametric Midtone Split : 50
Exposure 2012 : +0.10
Split Toning Highlight Hue : 0
Post Crop Vignette Highlight Contrast : 0
Whites 2012 : +29
Lens Profile Enable : 1
Lens Profile Filename : Leica Camera AG (Leica SUMMICRON-M 28 mm f2 ASPH.) - RAW.lcp
Blacks 2012 : +13
Sharpen Edge Masking : 0
Hue Adjustment Blue : 0
Vignette Amount : 0
Perspective Rotate : 0.0
Lens Profile Vignetting Scale : 100
Post Crop Vignette Style : Highlight Priority
Date Created : 2019:09:24 02:58:32
Distortion Correction Already Applied : True
Approximate Focus Distance : 4.88
Lens : Summicron-M 1:2/28 ASPH.
Format : image/jpeg
Rating : 2
Creator Tool : Adobe Photoshop Lightroom Classic 9.3 (Macintosh)
Marked : True
Tone Curve Blue : 0, 0, 255, 255
Tone Curve Red : 0, 0, 255, 255
Look Name : Tone Curve PV2012 Blue : 0, 0, 255, 255
Tone Curve : 0, 0, 255, 255
Tone Curve Green : 0, 0, 255, 255
Tone Curve PV2012 Red : 0, 0, 255, 255
Tone Curve PV2012 Green : 0, 0, 255, 255
Tone Curve PV2012 : 0, 0, 255, 255
Creator City : San Fransico
Rights : 2019
Subject : 2019, dublin, ireland, kilmainham gaol, stairs, windows
Creator : J. White
Usage Terms : All Rights REserved
Image Width : 250
Image Height : 375
Bits Per Sample : 8
Color Components : 3
Aperture : 4.8
Image Size : 250x375
Megapixels : 0.094
Scale Factor To 35 mm Equivalent : 7.6
Shutter Speed : 1/125
Modify Date : 2020:12:17 16:58:19-08:00
Circle Of Confusion : 0.004 mm
Depth Of Field : 1.16 m (4.37 - 5.53 m)
Field Of View : 9.6 deg
Focal Length : 28.0 mm (35 mm equivalent: 213.7 mm)
Hyperfocal Distance : 41.48 m
Light Value : 7.8
Lens ID : Summicron-M 1:2/28 ASPH.